BEGIN:VCALENDAR
VERSION:2.0
PRODID:-//Florida Executive Women - ECPv6.15.18//NONSGML v1.0//EN
CALSCALE:GREGORIAN
METHOD:PUBLISH
X-WR-CALNAME:Florida Executive Women
X-ORIGINAL-URL:https://fewcfl.org
X-WR-CALDESC:Events for Florida Executive Women
REFRESH-INTERVAL;VALUE=DURATION:PT1H
X-Robots-Tag:noindex
X-PUBLISHED-TTL:PT1H
BEGIN:VTIMEZONE
TZID:America/New_York
BEGIN:DAYLIGHT
TZOFFSETFROM:-0500
TZOFFSETTO:-0400
TZNAME:EDT
DTSTART:20250309T070000
END:DAYLIGHT
BEGIN:STANDARD
TZOFFSETFROM:-0400
TZOFFSETTO:-0500
TZNAME:EST
DTSTART:20251102T060000
END:STANDARD
BEGIN:DAYLIGHT
TZOFFSETFROM:-0500
TZOFFSETTO:-0400
TZNAME:EDT
DTSTART:20260308T070000
END:DAYLIGHT
BEGIN:STANDARD
TZOFFSETFROM:-0400
TZOFFSETTO:-0500
TZNAME:EST
DTSTART:20261101T060000
END:STANDARD
BEGIN:DAYLIGHT
TZOFFSETFROM:-0500
TZOFFSETTO:-0400
TZNAME:EDT
DTSTART:20270314T070000
END:DAYLIGHT
BEGIN:STANDARD
TZOFFSETFROM:-0400
TZOFFSETTO:-0500
TZNAME:EST
DTSTART:20271107T060000
END:STANDARD
END:VTIMEZONE
BEGIN:VEVENT
DTSTART;TZID=America/New_York:20260602T113000
DTEND;TZID=America/New_York:20260602T130000
DTSTAMP:20260422T164804
CREATED:20260422T160655Z
LAST-MODIFIED:20260422T204659Z
UID:9348-1780399800-1780405200@fewcfl.org
SUMMARY:Overcoming and Preventing Burnout
DESCRIPTION:Featured Guest Speaker—\nEmily Green\, MA\, LMHC\nBranch Out Counseling | Women Beyond Burnout \nTopic:\nOvercoming and Preventing Burnout\nIn this insightful session\, licensed psychotherapist Emily explores how burnout develops and what it takes to both prevent and recover from it—especially for high-performing professionals. Drawing from her work with high-capacity adults\, Emily will share practical\, actionable strategies to help participants move out of survival mode and into a more energized\, sustainable way of working and living. Attendees will leave with a clearer understanding of burnout and tools they can immediately apply to restore balance\, build resilience\, and sustain their performance—without sacrificing their wellbeing or their edge. \nHow This Will Benefit Our Members\nMembers will gain practical tools to recognize and prevent burnout\, restore balance\, and build resilience. You’ll walk away with strategies you can immediately apply to sustain high performance—without sacrificing your wellbeing or your edge.\n\n\nMeet Our Speaker: Emily Green\, MA\, LMHC\n\nEmily Green\, MA\, LMHC\, is a licensed psychotherapist and women’s transformation coach who helps high-capacity women break free from survival mode by addressing the deeper patterns driving chronic stress and burnout. Through her mentorship program and private practice\, Emily supports women in developing a more energized\, sustainable way of living and leading—so they can achieve at a high level without losing themselves or their edge. Outside of her work\, Emily enjoys practicing martial arts\, spending time with her family\, and getting lost in a good book. \nLearn more by visiting: https://www.womenbeyondburnout.com/
URL:https://fewcfl.org/event/overcoming-and-preventing-burnout/
LOCATION:Citrus Club\, 255 S Orange Ave STE 1800\, Orlando\, 32801\, United States
CATEGORIES:Members,Monthly Luncheon,Monthly Luncheon,Public
ATTACH;FMTTYPE=image/png:https://fewcfl.org/wp-content/uploads/2026/04/6-2-2026-Overcoming-and-Preventing-Burnout.png
END:VEVENT
END:VCALENDAR