BEGIN:VCALENDAR
VERSION:2.0
PRODID:-//Florida Executive Women - ECPv6.15.18//NONSGML v1.0//EN
CALSCALE:GREGORIAN
METHOD:PUBLISH
X-ORIGINAL-URL:https://fewcfl.org
X-WR-CALDESC:Events for Florida Executive Women
REFRESH-INTERVAL;VALUE=DURATION:PT1H
X-Robots-Tag:noindex
X-PUBLISHED-TTL:PT1H
BEGIN:VTIMEZONE
TZID:America/New_York
BEGIN:DAYLIGHT
TZOFFSETFROM:-0500
TZOFFSETTO:-0400
TZNAME:EDT
DTSTART:20240310T070000
END:DAYLIGHT
BEGIN:STANDARD
TZOFFSETFROM:-0400
TZOFFSETTO:-0500
TZNAME:EST
DTSTART:20241103T060000
END:STANDARD
BEGIN:DAYLIGHT
TZOFFSETFROM:-0500
TZOFFSETTO:-0400
TZNAME:EDT
DTSTART:20250309T070000
END:DAYLIGHT
BEGIN:STANDARD
TZOFFSETFROM:-0400
TZOFFSETTO:-0500
TZNAME:EST
DTSTART:20251102T060000
END:STANDARD
BEGIN:DAYLIGHT
TZOFFSETFROM:-0500
TZOFFSETTO:-0400
TZNAME:EDT
DTSTART:20260308T070000
END:DAYLIGHT
BEGIN:STANDARD
TZOFFSETFROM:-0400
TZOFFSETTO:-0500
TZNAME:EST
DTSTART:20261101T060000
END:STANDARD
END:VTIMEZONE
BEGIN:VEVENT
DTSTART;TZID=America/New_York:20251202T113000
DTEND;TZID=America/New_York:20251202T130000
DTSTAMP:20260420T141159
CREATED:20250925T213120Z
LAST-MODIFIED:20251103T000535Z
UID:8408-1764675000-1764680400@fewcfl.org
SUMMARY:Holiday Luncheon
DESCRIPTION:Join us for our 2025 Holiday Luncheon—a celebration of friendship\, traditions\, and plenty of holiday cheer! This special gathering is not only a chance to laugh\, be a little goofy\, and make memories together\, but also a heartfelt moment to hear from three of our scholarship winners as they share what your support has meant in their journeys. Come ready to celebrate\, connect\, and leave inspired! \nHoliday Memories Shared\n\nAs the holiday season approaches\, we invite you to share a cherished memory that makes this time of year special for you—whether it’s a funny family tradition\, a meaningful gathering\, or a magical moment! \nWe’re looking for 3-4 members to present at our holiday luncheon (3-5 minutes each). It’s a wonderful chance to inspire\, connect\, and celebrate the season with your stories! \nInterested in sharing your memory? Next steps are… \n\nPlease email Pamela Rogan at pamela@roganmarketing.com if you would like to share your story.\nInclude “FEW Holiday Memory” in the subject line.\nAttach photos (1-3) that we can put on one slide.\nInclude a brief blurb about your story.\nDeadline to respond is November 14\, 2025.\n\nHoliday Luncheon Contests: Bring the Laughter\, Bring the Style!\n\nWe’re bringing back the fun with two festive categories this year—each with 1st\, 2nd\, and 3rd place winners! \n1. Funny Ensemble Contest\nShow off your originality and sense of humor! Think creative\, quirky\, or laugh-out-loud outfits that stand out and get the room smiling. \n2. Festive Business Attire Contest\nPolish up your professional look with a holiday twist. From sparkling accessories to festive colors\, it’s all about bringing seasonal flair to your business style. \nGet ready to strut your stuff\, spread some cheer\, and maybe even take home a prize! \nEntertainment\n\nWe’re delighted to welcome Chase Pritchard on saxophone to our Holiday Luncheon. Enjoy the smooth sounds as you connect and network with fellow members\, and look forward to a lively encore when the contest begins. His music will set just the right tone for celebration\, camaraderie\, and festive fun. You can check him out on Instagram at @chasepritchardmusic  \n \nWe look forward to you joining us as we celebrate the past year while setting the pace for a strong 2026.
URL:https://fewcfl.org/event/holiday-luncheon-2025/
LOCATION:Citrus Club\, 255 S Orange Ave STE 1800\, Orlando\, 32801\, United States
CATEGORIES:Members,Monthly Luncheon,Monthly Luncheon,Public
ATTACH;FMTTYPE=image/jpeg:https://fewcfl.org/wp-content/uploads/2025/09/Holiday-Luncheon-Image-2025.jpg
END:VEVENT
END:VCALENDAR