BEGIN:VCALENDAR
VERSION:2.0
PRODID:-//Florida Executive Women - ECPv6.15.18//NONSGML v1.0//EN
CALSCALE:GREGORIAN
METHOD:PUBLISH
X-ORIGINAL-URL:https://fewcfl.org
X-WR-CALDESC:Events for Florida Executive Women
REFRESH-INTERVAL;VALUE=DURATION:PT1H
X-Robots-Tag:noindex
X-PUBLISHED-TTL:PT1H
BEGIN:VTIMEZONE
TZID:America/New_York
BEGIN:DAYLIGHT
TZOFFSETFROM:-0500
TZOFFSETTO:-0400
TZNAME:EDT
DTSTART:20240310T070000
END:DAYLIGHT
BEGIN:STANDARD
TZOFFSETFROM:-0400
TZOFFSETTO:-0500
TZNAME:EST
DTSTART:20241103T060000
END:STANDARD
BEGIN:DAYLIGHT
TZOFFSETFROM:-0500
TZOFFSETTO:-0400
TZNAME:EDT
DTSTART:20250309T070000
END:DAYLIGHT
BEGIN:STANDARD
TZOFFSETFROM:-0400
TZOFFSETTO:-0500
TZNAME:EST
DTSTART:20251102T060000
END:STANDARD
BEGIN:DAYLIGHT
TZOFFSETFROM:-0500
TZOFFSETTO:-0400
TZNAME:EDT
DTSTART:20260308T070000
END:DAYLIGHT
BEGIN:STANDARD
TZOFFSETFROM:-0400
TZOFFSETTO:-0500
TZNAME:EST
DTSTART:20261101T060000
END:STANDARD
END:VTIMEZONE
BEGIN:VEVENT
DTSTART;TZID=America/New_York:20251007T113000
DTEND;TZID=America/New_York:20251007T130000
DTSTAMP:20260422T093725
CREATED:20250915T154619Z
LAST-MODIFIED:20251002T170930Z
UID:8387-1759836600-1759842000@fewcfl.org
SUMMARY:Celebrating FEW Leadership & Connections
DESCRIPTION:This Month is About You!\n \nTopic:\nCelebrating FEW Leadership & Connections\nWe’re kicking off the program by presenting the 2026 leaders who will help guide FEW into another year of growth and inspiration—while also highlighting the connections and contributions of every member. \nWhile we won’t have a traditional featured speaker this month\, every one of you will be in the spotlight. Our interactive “get to know you” session will help you build deeper connections and learn more about the incredible talent within FEW. \nAnd here’s something extra exciting—this month\, we’re lifting the limit on guest visits! If you know someone who has already attended two luncheons and is curious to experience FEW one more time\, this is their chance. Bring a guest (or two!) and let them see firsthand the energy\, support\, and camaraderie that make FEW so special. \n✨ Don’t miss this luncheon of celebration\, connection\, and community. Your presence will help make it truly memorable! \n 
URL:https://fewcfl.org/event/celebrating-few-leadership-connections/
LOCATION:Citrus Club\, 255 S Orange Ave STE 1800\, Orlando\, 32801\, United States
CATEGORIES:Members,Monthly Luncheon,Monthly Luncheon,Public
ATTACH;FMTTYPE=image/png:https://fewcfl.org/wp-content/uploads/2025/09/FEW-10-7-2025-Luncheon.png
END:VEVENT
BEGIN:VEVENT
DTSTART;TZID=America/New_York:20251016T173000
DTEND;TZID=America/New_York:20251016T193000
DTSTAMP:20260422T093725
CREATED:20250602T012514Z
LAST-MODIFIED:20251013T164736Z
UID:8046-1760635800-1760643000@fewcfl.org
SUMMARY:FEW October Social
DESCRIPTION:Fall In Love With Your Health…at a cooking social with your FEW friends! \nEnjoy a private healthy cooking event with your fellow FEW Sisters and guests at FitLiving Eats Winter Park with Chef Carly. \nOctober 16th at 5:30pm \nThe cost for each attendee is $150\, which includes a customized menu\, ingredients and supplies needed\, guided instruction\, water\, coffee/tea and snack during class\, and digital copy of recipes. FEW members and guests will cook and dine together. The events committee will be providing wine. \nFitLiving Eats is located at 1150 Louisiana Ave.\, Bldg 5\, Winter Park\, FL 32789. \nRSVP by September 30\, 2025.
URL:https://fewcfl.org/event/october-social/
LOCATION:FitLiving Eats Winter Park\, 1150 Louisiana Ave STE 5\, Winter Park\, 32789\, United States
CATEGORIES:Event,Event,Members,Public
ATTACH;FMTTYPE=image/png:https://fewcfl.org/wp-content/uploads/2025/06/Screenshot-2025-06-01-at-9.17.18 PM.png
ORGANIZER;CN="Florida Executive Women":MAILTO:thomasP@sixtheagency.com
END:VEVENT
END:VCALENDAR