BEGIN:VCALENDAR
VERSION:2.0
PRODID:-//Florida Executive Women - ECPv6.15.18//NONSGML v1.0//EN
CALSCALE:GREGORIAN
METHOD:PUBLISH
X-ORIGINAL-URL:https://fewcfl.org
X-WR-CALDESC:Events for Florida Executive Women
REFRESH-INTERVAL;VALUE=DURATION:PT1H
X-Robots-Tag:noindex
X-PUBLISHED-TTL:PT1H
BEGIN:VTIMEZONE
TZID:America/New_York
BEGIN:DAYLIGHT
TZOFFSETFROM:-0500
TZOFFSETTO:-0400
TZNAME:EDT
DTSTART:20250309T070000
END:DAYLIGHT
BEGIN:STANDARD
TZOFFSETFROM:-0400
TZOFFSETTO:-0500
TZNAME:EST
DTSTART:20251102T060000
END:STANDARD
BEGIN:DAYLIGHT
TZOFFSETFROM:-0500
TZOFFSETTO:-0400
TZNAME:EDT
DTSTART:20260308T070000
END:DAYLIGHT
BEGIN:STANDARD
TZOFFSETFROM:-0400
TZOFFSETTO:-0500
TZNAME:EST
DTSTART:20261101T060000
END:STANDARD
BEGIN:DAYLIGHT
TZOFFSETFROM:-0500
TZOFFSETTO:-0400
TZNAME:EDT
DTSTART:20270314T070000
END:DAYLIGHT
BEGIN:STANDARD
TZOFFSETFROM:-0400
TZOFFSETTO:-0500
TZNAME:EST
DTSTART:20271107T060000
END:STANDARD
END:VTIMEZONE
BEGIN:VEVENT
DTSTART;TZID=America/New_York:20260211T173000
DTEND;TZID=America/New_York:20260211T193000
DTSTAMP:20260422T070955
CREATED:20260129T175702Z
LAST-MODIFIED:20260208T191816Z
UID:8990-1770831000-1770838200@fewcfl.org
SUMMARY:BAR + BAR FEW Social
DESCRIPTION:Kick off the new year with our BAR + BAR SOCIAL!\nWednesday\, February 11 | 5:30PM\nStart with a great BAR METHOD Class followed by socializing with your FEW sisters and enjoying the food & drink at Bar Italia. \nRSVP by February 4! \nSpots are limited to 20 for Bar Method class. \nBar Method will be $10PP and payment will be collected at the venue.\nFood/drinks on your own at Bar Italia.
URL:https://fewcfl.org/event/bar-bar-few-social/
LOCATION:The Bar Method – Winter Park\, 480 N Orlando Ave Suite 132\, Winter Park\, FL\, 32789\, United States
CATEGORIES:Event,Event,Members,Public
ATTACH;FMTTYPE=image/png:https://fewcfl.org/wp-content/uploads/2026/01/social-e1769709361877.png
ORGANIZER;CN="Florida Executive Women":MAILTO:thomasP@sixtheagency.com
END:VEVENT
BEGIN:VEVENT
DTSTART;TZID=America/New_York:20260303T113000
DTEND;TZID=America/New_York:20260303T130000
DTSTAMP:20260422T070955
CREATED:20260126T183305Z
LAST-MODIFIED:20260128T142608Z
UID:8963-1772537400-1772542800@fewcfl.org
SUMMARY:Happy Monday: Rethinking Life\, Leadership & Team Culture One Monday At A Time
DESCRIPTION:Featured Guest Speaker—\nMark Freid\nCEO Think Integrated and Executive Director of the Winter Park Institute \n  \n\nTopic:\nRethinking Life\, Leadership & Team Culture One Monday At A Time \nMark Freid believes culture is shaped by the conversations we choose to have and the things we choose to focus on. As the founder and CEO of Think Integrated\, he begins each week by sharing small ideas he believes can have a big impact on team members\, team culture\, and organizational success. In his talk\, Happy Monday\, Mark shares a few of those ideas—stories and insights designed to make you think\, perhaps make you laugh\, and maybe even change the way you approach work\, leadership\, and yes\, life. \nHow This Will Benefit Our Members\nInforms membership of a strategy for effective leadership and overall balance in professional life.\n \n\nMeet Our Speaker: Mark Freid\n\nMark Freid is the Founder and CEO of Think Integrated\, an award-winning branding and marketing firm known for its Culture of Gratitude\, and the Executive Director of the Winter Park Institute\, a nonprofit dedicated to ideas\, dialogue\, and human flourishing. A longtime leader in Central Florida’s nonprofit and civic community\, Mark has served on and advised numerous boards and is a frequent speaker on leadership\, organizational culture\, and purpose-driven work. \nOver the course of his career\, he has worked with entrepreneurs\, global companies\, nonprofits\, and community change agents\, helping organizations clarify who they are\, what they stand for\, and how they show up in the world. He is also a five-time Ironman\, endurance runner\, and lifelong student of leadership\, often drawing lessons from sport\, creativity\, and community. \nMark holds a BA from Tulane University\, executive and leadership certificates from the Harvard Kennedy School and Rollins College\, and is currently developing Happy Monday\, a book exploring how small ideas and meaningful conversations can shape culture\, leadership\, and life.
URL:https://fewcfl.org/event/rethinking-life-leadership-team-culture-one-monday-at-a-time/
LOCATION:Citrus Club\, 255 S Orange Ave STE 1800\, Orlando\, 32801\, United States
CATEGORIES:Members,Monthly Luncheon,Monthly Luncheon,Public
ATTACH;FMTTYPE=image/png:https://fewcfl.org/wp-content/uploads/2026/01/Mark-Freid-Headshot-FINAL.png
END:VEVENT
BEGIN:VEVENT
DTSTART;TZID=America/New_York:20260318T170000
DTEND;TZID=America/New_York:20260318T190000
DTSTAMP:20260422T070955
CREATED:20260222T175458Z
LAST-MODIFIED:20260222T180919Z
UID:9081-1773853200-1773860400@fewcfl.org
SUMMARY:FEW Social: Paddy-O Party!
DESCRIPTION:Join us for a FEW\nPADDY-O Party! \nWednesday\, March 18\n5:00-7:00PM \nThe Pinery\n295 NE Ivanhoe Blvd\nOrlando\, FL 32804 \nFree to attend – Food/Drinks OYO\nPlease RSVP by March 13 for space planning! \nScreenshot
URL:https://fewcfl.org/event/few-social-paddy-o-party-2/
LOCATION:The Pinery\, 295 NE Ivanhoe Blvd.\, Orlando\, FL\, 32084\, United States
CATEGORIES:Event,Event,Members,Public
ATTACH;FMTTYPE=image/jpeg:https://fewcfl.org/wp-content/uploads/2026/02/st-paddys-day-social-few-e1771783743999.jpeg
END:VEVENT
BEGIN:VEVENT
DTSTART;TZID=America/New_York:20260407T113000
DTEND;TZID=America/New_York:20260407T130000
DTSTAMP:20260422T070955
CREATED:20260220T221325Z
LAST-MODIFIED:20260402T191735Z
UID:9070-1775561400-1775566800@fewcfl.org
SUMMARY:Leading Through Change: Building Trust\, Culture\, and Performance with New Leadership
DESCRIPTION:Special Thanks to our April Luncheon Sponsor \nFeatured Guest Speakers—\n \n\nMelissa Vickers\nOrange County Public Defender\nLaw Offices of Melissa Vickers\nAmy Pennock\nSeminole County Supervisor of Elections\nTiffany Moore-Russell\nOrange County Clerk of Courts\n\nTopic:\nLeading Through Change: Building Trust\, Culture\, and Performance with New Leadership \nThis panel brings together women in elected leadership to explore what it means to step into an organization following a period of transition. Panelists will share real-world insights on building trust\, establishing positive culture\, managing resistance\, and leading teams through change. The discussion will focus on building credibility\, setting clear expectations\, and creating psychologically safe\, high-performing environments while navigating the complexities of inherited leadership. Attendees will gain practical strategies for leading with clarity\, accountability\, and emotional intelligence during times of organizational reset. \nHow This Will Benefit Our Members\nAttendees will gain practical strategies for leading with clarity\, accountability\, and emotional intelligence during times of organizational reset.\n \n\nMeet Panelist Melissa Vickers\nOrange County Public Defender\nLaw Office of Melissa Vickers\n\nMelissa Vickers is the elected Public Defender for Florida’s Ninth Judicial Circuit\, serving Orange and Osceola counties. She is the first female to hold this position in the Ninth Circuit. Board-certified in Criminal Defense Law since 2006\, she has more than 27 years of legal experience and has represented adults and juveniles in every phase of criminal cases. Before her election\, she worked both in private practice and public defense. Her start at the Ninth Circuit began as an Assistant Public Defender and evolved into leadership roles where she supervised\, trained\, and mentored attorneys and law students. \n\nMeet Panelist Amy Pennock\nSeminole County Supervisor of Elections\n\n\nAmy Pennock is the Seminole County Supervisor of Elections\, bringing a strong background in forensic accounting\, financial oversight\, and public accountability to election administration. She is the owner of Pennock Consulting Group and has provided CFO and forensic accounting services to organizations nationwide\, with prior senior leadership experience in healthcare\, construction\, and state government. \nAmy holds master’s degrees in Business Administration and Forensic Accounting and maintains professional certifications in fraud examination and internal controls. Previously\, she served on the Seminole County School Board\, including as Board Chair and Audit Committee Chair\, where she focused on integrity\, governance\, and public trust. \nA longtime Seminole County resident\, Amy is a dedicated public servant\, community advocate\, and proud mom of three daughters\, committed to strengthening public institutions and serving her community with transparency and professionalism. \n\nMeet Panelist Tiffany Moore-Russell\nOrange County Clerk of Courts\n \nOrange County Clerk of Courts Tiffany Moore Russell is a native of Orlando\, Florida. She received a BA in Political Science from the University of South Florida and a Juris Doctorate from Florida State University College of Law. \nElected to the Orange County Commission to represent District 6 in November of 2006\, Clerk Russell made history by becoming the youngest County Commissioner ever elected to serve on the Orange County Commission. Clerk Russell served two terms on the County Commission (2006-2014). Clerk Russell again made history in 2014 as the first African American female Clerk elected in Florida and the first African American Clerk in Orange County. \nAs Commissioner\, and now as a Constitutional Officer\, Clerk Russell has a strong commitment to her community. Trained as an attorney\, she understands that access to the justice system is crucial\, especially for those in the community who are economically challenged.
URL:https://fewcfl.org/event/leading-through-change-building-trust-culture-and-performance-with-new-leadership/
LOCATION:Citrus Club\, 255 S Orange Ave STE 1800\, Orlando\, 32801\, United States
CATEGORIES:Members,Monthly Luncheon,Monthly Luncheon,Public
ATTACH;FMTTYPE=image/png:https://fewcfl.org/wp-content/uploads/2026/02/Leading-Through-Change-Image.png
END:VEVENT
BEGIN:VEVENT
DTSTART;TZID=America/New_York:20260505T111500
DTEND;TZID=America/New_York:20260505T130000
DTSTAMP:20260422T070955
CREATED:20260406T222506Z
LAST-MODIFIED:20260420T034514Z
UID:9304-1777979700-1777986000@fewcfl.org
SUMMARY:Real Conversations That Matter
DESCRIPTION:Special Thanks to our May Luncheon Sponsor—CINDY PRICE \nAbout the Experience\nThis May\, we’re doing things a little differently—in the best way. \nThe May Luncheon Experience: Real Conversations that Matter is designed to go beyond traditional networking to create something more engaging\, meaningful\, and memorable. This isn’t a sit-back-and-listen kind of program—it’s an opportunity to actively connect. \nThrough guided conversation moments and intentional interaction\, you’ll engage with fellow members and guests in a way that feels natural\, energizing\, and refreshingly real. It’s about creating space for dialogue\, new perspectives\, and the kind of connections that don’t happen by chance. \nBecause when the conversation is intentional\, the impact is greater. \nWhat You’ll Gain\nLet’s be honest—small talk only goes so far. \nThis experience is designed to help you move past the surface and into conversations that actually matter. You’ll meet new people\, exchange ideas\, and gain insights you may not have encountered otherwise—all in a format that makes it easy (and enjoyable) to engage. \nYou’ll leave with: \n\nStronger\, more authentic connections\nFresh perspectives you can take back to your work and life\nA renewed sense of energy around being part of the FEW community\n\nWhether you’re a long-time member or joining us for the first time\, you’ll walk away feeling more connected\, more inspired\, and glad you didn’t miss it. \nWe Hope to See You There\nThis isn’t just another luncheon—it’s an experience.\nReserve your seat and be part of the conversation. \n 
URL:https://fewcfl.org/event/real-conversations-that-matter/
LOCATION:Citrus Club\, 255 S Orange Ave STE 1800\, Orlando\, 32801\, United States
CATEGORIES:Members,Monthly Luncheon,Monthly Luncheon,Public
ATTACH;FMTTYPE=image/png:https://fewcfl.org/wp-content/uploads/2026/04/FEW-May-Experience-5-5-2026.png
END:VEVENT
END:VCALENDAR