BEGIN:VCALENDAR
VERSION:2.0
PRODID:-//Florida Executive Women - ECPv6.15.18//NONSGML v1.0//EN
CALSCALE:GREGORIAN
METHOD:PUBLISH
X-ORIGINAL-URL:https://fewcfl.org
X-WR-CALDESC:Events for Florida Executive Women
REFRESH-INTERVAL;VALUE=DURATION:PT1H
X-Robots-Tag:noindex
X-PUBLISHED-TTL:PT1H
BEGIN:VTIMEZONE
TZID:America/New_York
BEGIN:DAYLIGHT
TZOFFSETFROM:-0500
TZOFFSETTO:-0400
TZNAME:EDT
DTSTART:20240310T070000
END:DAYLIGHT
BEGIN:STANDARD
TZOFFSETFROM:-0400
TZOFFSETTO:-0500
TZNAME:EST
DTSTART:20241103T060000
END:STANDARD
BEGIN:DAYLIGHT
TZOFFSETFROM:-0500
TZOFFSETTO:-0400
TZNAME:EDT
DTSTART:20250309T070000
END:DAYLIGHT
BEGIN:STANDARD
TZOFFSETFROM:-0400
TZOFFSETTO:-0500
TZNAME:EST
DTSTART:20251102T060000
END:STANDARD
BEGIN:DAYLIGHT
TZOFFSETFROM:-0500
TZOFFSETTO:-0400
TZNAME:EDT
DTSTART:20260308T070000
END:DAYLIGHT
BEGIN:STANDARD
TZOFFSETFROM:-0400
TZOFFSETTO:-0500
TZNAME:EST
DTSTART:20261101T060000
END:STANDARD
END:VTIMEZONE
BEGIN:VEVENT
DTSTART;TZID=America/New_York:20251106T173000
DTEND;TZID=America/New_York:20251106T190000
DTSTAMP:20260420T170945
CREATED:20251006T045543Z
LAST-MODIFIED:20251006T052900Z
UID:8504-1762450200-1762455600@fewcfl.org
SUMMARY:FEW New Member Reception
DESCRIPTION:FEW New Member Welcome Reception\nHosted by FEW Membership Committee \nJoin us for a casual after hours event with beverages and hors d’oeuvres. You’ll learn valuable information about our unique history\, how to get the most out of your FEW membership and meet the board. \nNovember 6\, 2025 from 5:30pm to 7:00pm \nHosted At & Sponsored By:\nArtisan Kitchen & Bath Gallery\n784 N Orange Ave\, Ste 106\nWinter Park\, FL 32789 \nRSVP by November 1\, 2025
URL:https://fewcfl.org/event/few-new-member-reception/
LOCATION:Artisan Kitchen & Bath\, 784 N Orange Ave #106\, Winter Park\, FL\, 32789\, United States
CATEGORIES:Event,Members
ATTACH;FMTTYPE=image/png:https://fewcfl.org/wp-content/uploads/2023/10/few-design.png
ORGANIZER;CN="Florida Executive Women":MAILTO:thomasP@sixtheagency.com
END:VEVENT
END:VCALENDAR