BEGIN:VCALENDAR
VERSION:2.0
PRODID:-//Florida Executive Women - ECPv6.15.18//NONSGML v1.0//EN
CALSCALE:GREGORIAN
METHOD:PUBLISH
X-WR-CALNAME:Florida Executive Women
X-ORIGINAL-URL:https://fewcfl.org
X-WR-CALDESC:Events for Florida Executive Women
REFRESH-INTERVAL;VALUE=DURATION:PT1H
X-Robots-Tag:noindex
X-PUBLISHED-TTL:PT1H
BEGIN:VTIMEZONE
TZID:America/New_York
BEGIN:DAYLIGHT
TZOFFSETFROM:-0500
TZOFFSETTO:-0400
TZNAME:EDT
DTSTART:20240310T070000
END:DAYLIGHT
BEGIN:STANDARD
TZOFFSETFROM:-0400
TZOFFSETTO:-0500
TZNAME:EST
DTSTART:20241103T060000
END:STANDARD
BEGIN:DAYLIGHT
TZOFFSETFROM:-0500
TZOFFSETTO:-0400
TZNAME:EDT
DTSTART:20250309T070000
END:DAYLIGHT
BEGIN:STANDARD
TZOFFSETFROM:-0400
TZOFFSETTO:-0500
TZNAME:EST
DTSTART:20251102T060000
END:STANDARD
BEGIN:DAYLIGHT
TZOFFSETFROM:-0500
TZOFFSETTO:-0400
TZNAME:EDT
DTSTART:20260308T070000
END:DAYLIGHT
BEGIN:STANDARD
TZOFFSETFROM:-0400
TZOFFSETTO:-0500
TZNAME:EST
DTSTART:20261101T060000
END:STANDARD
END:VTIMEZONE
BEGIN:VEVENT
DTSTART;TZID=America/New_York:20251104T113000
DTEND;TZID=America/New_York:20251104T130000
DTSTAMP:20260422T052310
CREATED:20250804T172712Z
LAST-MODIFIED:20251013T040946Z
UID:8233-1762255800-1762261200@fewcfl.org
SUMMARY:Leading with Purpose\, Power\, and Poise
DESCRIPTION:Featured Guest Speaker—\nEricka Dunlap | Founder & CEO\, Crown Communication Group\nMiss America 2004 | Community Strategist | Advocate for Equity \nSpecial Thanks to Our Luncheon Sponsor:\n \nTopic:\nLeading with Purpose\, Power\, and Poise \nIn her message\, “Leading with Purpose\, Power\, and Poise\,” Ericka Dunlap draws from her extraordinary journey—from breaking barriers as Miss Florida and Miss America to building a successful career as a business leader and communications strategist. With a dynamic blend of personal insight and professional experience\, Ericka challenges women to lead with authenticity\, set bold goals\, and embrace their influence with confidence and grace. Her message is a powerful call to action: that true leadership is not just about being seen—but about knowing who you are\, why you lead\, and how to uplift others along the way. \nHow This Will Benefit Our Members\nWe will be inspired and empowered by Ericka’s message\, “Leading with Purpose\, Power\, and Poise.” Drawing from her groundbreaking experiences and professional success\, Ericka offers practical insights on leading authentically\, embracing your influence\, and setting bold\, meaningful goals. Attendees will walk away with renewed confidence and clarity on how to lead with intention—while uplifting others and making a lasting impact. \nThis luncheon offers a unique opportunity to reflect\, reconnect with your purpose\, and elevate your leadership presence. Ericka’s message will leave you energized to take your next steps with strength\, strategy\, and confidence. \nMeet Our Speaker:\n \nEricka Dunlap is an award-winning public relations strategist\, accomplished speaker\, entrepreneur\, and community advocate with a passion for helping others lead with authenticity and purpose. \nIn 2003\, Ericka made history as the first Black woman to be crowned Miss Florida in the pageant’s 85-year history. The following year\, she won the title of Miss America 2004\, using her national platform to spark meaningful conversations around diversity\, inclusion\, and cultural awareness—topics she continues to champion today. \nAs CEO of Crown Communication Group\, Ericka leads a multidisciplinary strategic consulting firm based in Orlando\, where she helps brands and organizations shape impactful messaging through storytelling\, strategy\, and intentional engagement. She’s also a seasoned television host and performer\, with appearances on The Oprah Winfrey Show\, The Amazing Race\, Live with Regis and Kelly\, and stages like The Apollo and The Grand Ole Opry. Her recent work includes hosting the award-winning web series Cleverest and the nationally distributed talk show A Healthier Us for Advil. \nEricka is the visionary creator of A Christmas with Soul\, a heartwarming\, multi-city holiday experience showcasing soulful renditions of Christmas classics. She also authored a companion book by the same name\, filled with captivating imagery and seasonal reflections. \nThrough decades of service\, leadership\, and public engagement\, Ericka Dunlap has empowered audiences nationwide with messages of self-worth\, resilience\, and joyful leadership. She resides in Orlando with her daughter\, Mikelle Antoinette. \n 
URL:https://fewcfl.org/event/leading-with-purpose-power-and-poise/
LOCATION:Citrus Club\, 255 S Orange Ave STE 1800\, Orlando\, 32801\, United States
CATEGORIES:Members,Monthly Luncheon,Monthly Luncheon,Public
ATTACH;FMTTYPE=image/png:https://fewcfl.org/wp-content/uploads/2025/11/Ericka-Dunlap-Headshot-Website.png
END:VEVENT
END:VCALENDAR